BEGIN:VCALENDAR
VERSION:2.0
PRODID:-//Le Minimistan｜Coworking - Café, bar &amp; restaurant - Université libre - ECPv6.15.11//NONSGML v1.0//EN
CALSCALE:GREGORIAN
METHOD:PUBLISH
X-ORIGINAL-URL:https://minimistan.org
X-WR-CALDESC:Évènements pour Le Minimistan｜Coworking - Café, bar &amp; restaurant - Université libre
REFRESH-INTERVAL;VALUE=DURATION:PT1H
X-Robots-Tag:noindex
X-PUBLISHED-TTL:PT1H
BEGIN:VTIMEZONE
TZID:Europe/Paris
BEGIN:DAYLIGHT
TZOFFSETFROM:+0100
TZOFFSETTO:+0200
TZNAME:CEST
DTSTART:20250330T010000
END:DAYLIGHT
BEGIN:STANDARD
TZOFFSETFROM:+0200
TZOFFSETTO:+0100
TZNAME:CET
DTSTART:20251026T010000
END:STANDARD
BEGIN:DAYLIGHT
TZOFFSETFROM:+0100
TZOFFSETTO:+0200
TZNAME:CEST
DTSTART:20260329T010000
END:DAYLIGHT
BEGIN:STANDARD
TZOFFSETFROM:+0200
TZOFFSETTO:+0100
TZNAME:CET
DTSTART:20261025T010000
END:STANDARD
BEGIN:DAYLIGHT
TZOFFSETFROM:+0100
TZOFFSETTO:+0200
TZNAME:CEST
DTSTART:20270328T010000
END:DAYLIGHT
BEGIN:STANDARD
TZOFFSETFROM:+0200
TZOFFSETTO:+0100
TZNAME:CET
DTSTART:20271031T010000
END:STANDARD
END:VTIMEZONE
BEGIN:VEVENT
DTSTART;TZID=Europe/Paris:20260422T150000
DTEND;TZID=Europe/Paris:20260422T190000
DTSTAMP:20260422T101302
CREATED:20260410T150644Z
LAST-MODIFIED:20260410T150644Z
UID:10000647-1776870000-1776884400@minimistan.org
SUMMARY:Dédicaces & cartonnade avec Bilquis Evely et Matheus Lopes
DESCRIPTION:Le mercredi 22 avril\, la librairie Momie Grenoble vous propose bien plus qu’une simple séance de dédicaces : une rencontre festive\, créative et un peu déjantée avec Bilquis Evely et Matheus Lopes !\nOui\, il y aura bien une séance de dédicaces… mais pour y accéder\, il faudra peut-être passer par une armure en carton 👀🛡️ \nAvant la dédicace : place à la création !\nNous vous donnons rendez-vous au Minimistan\, où une salle sera ouverte de 11h à 15h pour vous permettre de fabriquer votre costume.\n👉 Sur place\, nous fournissons le carton uniquement\n👉 Pensez à venir avec votre matériel : ciseaux\, colle\, scotch\, peinture… tout ce dont vous avez besoin pour donner vie à votre armure fantasy ! \nÀ partir de 15h\, les choses sérieuses commencent :\nUn concours de la plus belle armure en carton\nPuis une cartonnade : une joute amicale (et mémorable) d’une dizaine de minutes avec vos costumes en carton. La dernière personne à qui il reste une pièce pectorale intacte sera le/la gagnant(e) de la cartonnade et obtiendra d’office une place pour la dédicace avec l’honneur d’avoir un dessin couleur + signature. Un mail plus explicatif sera envoyé aux personnes inscrites pour la cartonnade\, pensez donc à vérifier votre boite mail.\n🏆 À la clé : des places garanties pour la dédicace… et même un dessin couleur pour le/la grand(e) vainqueur(e). \n✍️ La dédicace : le cœur de l’événement\nLa séance de dédicaces aura lieu de 16h30 à 19h chez Momie Grenoble.\nElle est accessible uniquement sur inscription\, avec un système de tirage au sort pour garantir une expérience agréable à tous.\nChaque personne sélectionnée pourra repartir avec :\n👉 un sketch + une signature sur un comics des auteurs\nC’est un moment privilégié pour échanger avec les artistes\, découvrir leur travail de plus près et repartir avec une pièce unique. \n🎟️ Comment participer ?\nL’inscription est obligatoire (cartonnade et/ou rencontre) et se fait uniquement auprès de la librairie Momie Grenoble :\n📞 par téléphone au 0476516622 ou directement en boutique\n⏳ jusqu’à la veille de l’événement (pas d’inscription le jour même) \n💡 Petit bonus : s’inscrire aux deux activités augmente vos chances d’être tiré(e) au sort pour la dédicace
URL:https://minimistan.org/evenement/dedicaces-cartonnade-avec-bilquis-evely-et-matheus-lopes/
LOCATION:Le Minimistan\, cour Marcel Reymond\, Grenoble\, 38000
CATEGORIES:Evénements du Minimistan,Homepage
ATTACH;FMTTYPE=image/png:https://minimistan.org/wp-content/uploads/2026/04/banniere-cartonnade-dedicace-22-avril-2026-scaled.png
END:VEVENT
BEGIN:VEVENT
DTSTART;TZID=Europe/Paris:20260422T180000
DTEND;TZID=Europe/Paris:20260422T200000
DTSTAMP:20260422T101302
CREATED:20260416T073026Z
LAST-MODIFIED:20260416T073026Z
UID:10000649-1776880800-1776888000@minimistan.org
SUMMARY:Café sexo - Couple et non-exclusivité
DESCRIPTION:Des rendez-vous ont lieu une fois par mois\, autour d’une thématique proposée\, pour permettre d’échanger autour de l’intimté et de la sexualité.\nLe Café Sexo est donc un espace pensé pour permettre d’échanger autour des pratiques\, vécus\, expériences et questionnements autour de l’intimité et des sexualités.\nEn tant que professionnelles\, notre volonté est de créer un espace safe\, confidentiel mais aussi joyeux pour pouvoir évoquer ces sujets qui sont à la fois tabous et essentiels. Notre pratique est située\, nous avons à cœur de penser cette espace comme inclusif\, féministe et intersectionnel en prenant soin de ne pas rejouer les violences systémiques. \nProchaine date:\n22 avril 2026\nCouple et non-exclusivité… à quelles conditions ? Trouver son équilibre entre liberté relationnelle\, besoin de sécurité et construction de cadre \n☕ Et si l’amour ne se vivait pas toujours à deux ? Et si la fidélité ne signifiait pas forcément exclusivité sexuelle ou affective ? Et si la jalousie n’était pas une fatalité\, mais une émotion à comprendre ? Pour notre prochain Café Sexo\, nous vous proposons d’ouvrir un espace de réflexion et d’échange autour de la non-exclusivité relationnelle dans un cadre sécurisant\, respectueux et confidentiel\, encadré par des sexologues clinicienne \n💬 Pourquoi ce thème ?\nLa norme dominante reste celle du couple exclusif\, souvent appelée monogamie. Pourtant\, de plus en plus de personnes explorent ou questionnent d’autres modèles :\n• Relations ouvertes\n• Polyamour\n• Couple libre\n• Anarchie relationnelle\n• Relations hybrides ou évolutives\nCes pratiques interrogent nos croyances sur l’amour\, l’engagement\, la fidélité\, la sécurité affective et la liberté individuelle. La non-exclusivité n’est ni une mode\, ni une solution miracle. Elle peut être source d’épanouissement… comme de confusion ou de souffrance si elle n’est pas pensée et consentie. \n🎯 Objectifs de la rencontre\nCe Café Sexo ne sera ni un plaidoyer ni un jugement. Il s’agira de :\n• Comprendre ce que recouvre réellement la non-exclusivité\n• Distinguer fantasme\, pratique et réalité émotionnelle\n• Explorer les enjeux psychologiques : attachement\, jalousie\, insécurité\, compersion\n• Questionner les dynamiques de pouvoir et les accords explicites\n• Réfléchir aux besoins individuels vs. aux attentes sociales\n• Partager expériences\, doutes et représentations dans un cadre bienveillant \n🌱 Pour qui ?\n• Pour les personnes curieuses\n• Pour celles et ceux qui se questionnent\n• Pour les couples qui envisagent d’ouvrir leur relation • Pour les personnes ayant déjà expérimenté\n• Pour celles et ceux qui souhaitent mieux comprendre ces dynamiques\, sans forcément vouloir les vivre \nAucune obligation d’adhérer\, aucune injonction à pratiquer. Seulement un espace de parole\, de réflexion et d’écoute. \n🤝 Notre intention:\nCréer un cadre sécurisant où la parole circule sans jugement. Parce que parler de sexualité et de relation\, c’est aussi parler de vulnérabilité\, de désir\, de limites et de liberté. \nInformations pratiques :\n• 📅 Date : 22 avril 2026\n• 🕕 Horaire : 18h – 20h\n• 📍 Lieu : Le Minimistan\, Rue des Minimes\, Cour Marcel Reymond\, Grenoble \n• 👥 Cercle de parole mixte\n• ✍️ Participation sur inscription\n• 💰 Prix conscient : 10 euros\nPrix solidaire (étudiant\, situation de précarité…) : 5 euros \n  \n 
URL:https://minimistan.org/evenement/cafe-sexo-couple-et-non-exclusivite/
LOCATION:Le Minimistan\, cour Marcel Reymond\, Grenoble\, 38000
ATTACH;FMTTYPE=image/jpeg:https://minimistan.org/wp-content/uploads/2026/04/IMG_2416.jpeg
END:VEVENT
BEGIN:VEVENT
DTSTART;TZID=Europe/Paris:20260422T203000
DTEND;TZID=Europe/Paris:20260422T220000
DTSTAMP:20260422T101302
CREATED:20260402T112422Z
LAST-MODIFIED:20260402T114750Z
UID:10000639-1776889800-1776895200@minimistan.org
SUMMARY:Spectacle d'improvisation Longform - LATIAG
DESCRIPTION:  \n \nLe Minimistan est heureux d’accueillir à nouveau la troupe de théâtre d’improvisation pour un format en Longform sur le thème « Chambre 243 ». \nÀ quoi s’attendre : \nUn hôtel\, des chambres\, des vies qui s’entrecroisent. Les clients arrivent\, repartent\, mentent\, s’aiment\, s’évitent. Le personnel jongle entre service et confidences. Et tout ce petit monde respire\, se dévoile\, explose parfois. \n\n\n\nUn hôtel\, des chambres\, des vies qui s’entrecroisent. \nLes clients arrivent\, repartent\, mentent\, s’aiment\, s’évitent. Le personnel jongle entre service et confidences. Et tout ce petit monde respire\, se dévoile\, explose parfois. C’est vous qui choisissez le décor — hôtel au charme un peu fané\, palace parisien ou motel poussiéreux — et les comédiens inventent les histoires de ceux qui y vivent. \nUn spectacle où chaque instant devient une scène de film… sauf qu’ici\, rien n’est écrit. \nINFORMATIONS PRATIQUES : \n📅 Le mercredi 22 avril\n🕐 20h30\n🎟️ Entrée payante\, sur réservation 
URL:https://minimistan.org/evenement/spectacle-dimprovisation-longform-latiag/
LOCATION:Le Minimistan\, cour Marcel Reymond\, Grenoble\, 38000
CATEGORIES:Evénements du Minimistan
ATTACH;FMTTYPE=image/png:https://minimistan.org/wp-content/uploads/2026/04/2026-avril-banniere-site-4-scaled-e1775128832598.png
END:VEVENT
BEGIN:VEVENT
DTSTART;TZID=Europe/Paris:20260424T170000
DTEND;TZID=Europe/Paris:20260425T200000
DTSTAMP:20260422T101302
CREATED:20260330T142254Z
LAST-MODIFIED:20260410T152250Z
UID:10000635-1777050000-1777147200@minimistan.org
SUMMARY:Impressionnant - Festival des métiers de l'impression artisanale
DESCRIPTION:Un événement dédié à l’impression artisanale : rencontres avec des artistes\, marché\, ateliers\, expérimentations et exposition autour de l’image imprimée.\nLe festival est ouvert à toutes et tous : artistes\, curieux\, amateurs ou simplement celles et ceux qui aiment découvrir de nouvelles techniques.\nAu programme : marché d’artistes\, ateliers\, initiations et moments d’échanges. \nHORAIRES ET PORGRAMME : \nVendredi 24 avril\n17h à 20h : Marché d’artistes et d’artisans \nSamedi 25 avril\n9h30-13h30 : Ateliers sur inscription (liste et liens inscription ci-dessous)\n14h à 20h : Marché d’artistes et d’artisans\nAteliers à prix libre l’après-midi \nArtistes et intervenant·es du festival :\n(la liste peut évoluer)\n🧑‍🎨 Studio W. – Cyanotype – créer son propre cyanotype de format A5\n🧑‍🎨 Studio Mouillette – Linogravure – Gravure et impression lino sur supports mixtes (tissu\, papier\, carton…)\n🧑‍🎨 Flor Pistan – Linogravure et pointe sèche – Atelier d’initiation à la linogravure\n🧑‍🎨 PUFF – collage et stickers – initiation au collage\n🧑‍🎨 La Patchographie – sérigraphie – atelier de sérigraphie patch et pochoir\n🧑‍🎨 GrrrRiso – risographie – initiation à la risographie en bichromie \nLES ATELIERS ET ANIMATIONS :\nVendredi 24 avril\n🎨 18h00 – 19h30 – Visite street art XXS (PUFF)\nExploration des petites œuvres de street art dans l’hypercentre de Grenoble : collages\, pochoirs et créations discrètes que l’on croise souvent sans les voir.\n👉 Inscription : https://www.helloasso.com/associations/paste-up-festival-france/evenements/impressionnant-visite-street-art-xxs-hypercentre-grenoble-24-avril-2026 \nSamedi 25 avril\nMatin – Ateliers sur inscription (9h30 – 13h30)\n🎨 À la découverte du cyanotype avec Studio W (@studio.w__)\n9h30 – 11h00 ou 11h45 – 13h15\n👉 Inscription : https://studio-w.eu/events/festival-impressionnant-atelier-a-la-decouverte-du-cyanotype/ \n🎨 Initiation à la linogravure avec Studio Mouillette (@studio__mouillette)\n10h00 – 13h30\nApprendre à graver\, encrer et imprimer une plaque de linoléum.\n👉 Inscription https://docs.google.com/forms/d/e/1FAIpQLSdfo2m8Zovg7N8GBb4Ymfeuj0g2dtVX5zQGVNV8SdhtKiSsxQ/viewform \n🎨 Sérigraphie et création textile – La Patchographie (@lapatchographie\nCréation de patchs en série limitée et participation à une œuvre collective.\n👉 Inscription : https://www.billetweb.fr/la-patchographie-au-minimistan \n🎨 Initiation à la linogravure avec Flor Pistan Linogravure\nDurée : 2h30 / 3h\nInscription : par mail à florencia.pistan@allpa.fr \n✂️ Atelier collage street art – Association PUFF 👇\n10h00 – 11h30 ou 12h00 – 13h30\nInitiez-vous à la technique du collage autour du thème du végétal et repartez avec votre œuvre personnalisée.\n10h00 – 11h30\n👉 Inscriptions : https://www.helloasso.com/associations/paste-up-festival-france/evenements/impressionnant-atelier-collage-25-avril-2026\n12h00 – 13h30\n👉 Inscriptions : https://www.helloasso.com/associations/paste-up-festival-france/evenements/impressionnant-atelier-collage-25-avril-2026-2 \nAprès-midi :\n14h00 – 20h00\nMarché d’artistes et d’artisans \nAteliers à prix libre (minimum demandé)\n🎨 Création de stickers avec l’association PUFF\nDessinez\, découpez et créez vos propres stickers en découvrant l’univers du street art.\n17h00 – 18h00\n👉 Inscriptions : https://www.helloasso.com/associations/paste-up-festival-france/evenements/impressionnant-atelier-stikers-25-avril\n18h00 – 19h00\n👉 Inscriptions : https://www.helloasso.com/associations/paste-up-festival-france/evenements/impressionnant-atelier-stikers-25-avril-2 \n🎨 Table de création ouverte – La Patchographie\nExpérimentations autour de l’impression\, du textile et du collage.\nParticipation libre à partir de 15€. \n🚶 Visites street art – Association PUFF\n16h00 – 17h30 – Visite street art XXS (Grenoble centre)\nExploration des collages\, pochoirs et œuvres discrètes de l’hypercentre.\n👉 Inscriptions : https://www.helloasso.com/associations/paste-up-festival-france/evenements/impressionnant-visite-street-art-murs-minimistan-25-avril-2026\n18h00 – 19h00 – Visite street art des murs du Minimistan\nDécouverte de la fresque de collages réalisée par des centaines d’artistes internationaux.\n👉 Inscriptions : https://www.helloasso.com/associations/paste-up-festival-france/evenements/impressionnant-visite-street-art-xxs-hypercentre-grenoble-25-avril-2026-2
URL:https://minimistan.org/evenement/impressionnant/
LOCATION:Le Minimistan\, cour Marcel Reymond\, Grenoble\, 38000
CATEGORIES:Evénements du Minimistan,Homepage
ATTACH;FMTTYPE=image/png:https://minimistan.org/wp-content/uploads/2026/03/banniere-festival-impressionnant.png
END:VEVENT
BEGIN:VEVENT
DTSTART;TZID=Europe/Paris:20260501T100000
DTEND;TZID=Europe/Paris:20260502T210000
DTSTAMP:20260422T101302
CREATED:20260404T135206Z
LAST-MODIFIED:20260410T150829Z
UID:10000640-1777629600-1777755600@minimistan.org
SUMMARY:PIOU PIOU Market - Méga frip et créateurs
DESCRIPTION:Marquez vos calendriers à vendredi 1 et samedi 2 mai et rejoignez-nous ! Le Minimistan est heureux d’accueillir à nouveau le Piou Piou Market pendant deux jours. \nCe qui vous attend :\n🧥 200 M² DE FRIPE A PARTIR DE 2€ 🧥\nRobe\, top\, pantalon Y2K\, sweat\, t-shirt\, jeans vous seront proposés à PARTIR DE 2 €!\nVous trouverez également un corner avec notre sélection de pièces rares et de marques\, les trenchs et les cuirs toujours à petits prix ❤️ \n🎨 Les créateur-ices 🎨\nBijoux\, déco\, mode… Découvrez le travail exceptionnel d’artisan-es locaux et de créateur-ices indépendant-es. \nEspace Beauté\nLaissez libre cours à votre créativité avec des tatouages\, des strass dentaire\, du piercing et du Nail art. Tout un espace dédié à la créativité et au selfcare ! \n☕🥞 Bar Restaurant 🍻🥯\nProfitez du Minimistan toute la journée : Petit déj’ au café du Guatémala et pâtisseries maison\, des produits frais et de saison pour un déjeuner gourmand\, et des planches apéro le soir ! Avec une offre brunch le samedi. Le tout assorti d’une super carte de bières\, vins et cocktails jusqu’à minuit chaque jour. \n🕺 FULL HOUSE JAM dès 18h le samedi avec la Compagnie Komok 🕺\n👉 https://www.instagram.com/cie_komok/\nHouse dance\, dj set et FULL FUN ! \n🔖 Informations Pratiques 🔖\n📍 Lieu : Le Minimistan\nC’est où ?\nCour Marcel Reymond\, 38000 Grenoble \nC’est quand ?\n🗓️ Dates : vendredi 1 mai et samedi 2 mai 2026\n⏰ Horaires du market : 10h00 – 21h00\nEntrée gratuite (Activités et achats payants)
URL:https://minimistan.org/evenement/piou-piou-market-mega-frip-et-createurs/
LOCATION:Le Minimistan\, cour Marcel Reymond\, Grenoble\, 38000
CATEGORIES:Evénements du Minimistan
ATTACH;FMTTYPE=image/png:https://minimistan.org/wp-content/uploads/2026/04/2026-avril-banniere-facebook-3-scaled-e1775310756448.png
END:VEVENT
BEGIN:VEVENT
DTSTART;TZID=Europe/Paris:20260502T180000
DTEND;TZID=Europe/Paris:20260502T233000
DTSTAMP:20260422T101302
CREATED:20260404T140908Z
LAST-MODIFIED:20260420T124638Z
UID:10000641-1777744800-1777764600@minimistan.org
SUMMARY:Full House Jam - avec la Compagnie KOMOK
DESCRIPTION:Pour clôturer le Piou Piou Market en danse et en fête\, le Minimistan est heureux d’accueillir la FULL HOUSE JAM au Minimistan\, pour une soirée endiablée ! \nLa Full House Jam est un espace convivial de danse et de partage\, immergé dans la musique 100% House. Pour cette soirée\, nos 4 artistes musiciens et DJs auront la mission de rendre irrésistible ton envie de bouger\, aidés d’un danseur pour nourrir les connexions sur la piste\, et retrouver la dimension de danse sociale. Ouvert à toute personne souhaitant se mouvoir\, gigoter\, shaker\, dandiner\, sautiller … Une initiation de House Dance est proposée en milieu de soirée\, par un danseur expérimenté et passionné\, sans prérequis nécessaire. \nLINE-UP MUSICAL \nYOSUE – LIVE SET HOUSE ORGANIQUE\nUn set live House organique et évolutif\, pensé comme un échauffement.\nBoucles électroniques\, textures deep et instruments live (guitare\, basse) s’entremêleront\, laissant le groove s’installer naturellement.\nUne ouverture pour entrer dans la danse\, doucement mais sûrement. \nOJJO & P-DOC – DJ SET AFRO HOUSE\, DEEP HOUSE\nBinôme qui se rencontre par la danse\, par le goût pour les musiques qui bounce et ondulent\, le goût de la culture house et le goût du partage. Escales dans les basslines qui restent en tête et n’en sortent plus jamais\, escales dans l’underground de la deep\, escales dans des sonorités panafricaines … \nDEBY & KHONÉ – DJ SET DEEP HOUSE\, SOULFUL HOUSE\nLe B2B iconique de la Full House Jam ! Leur univers musical : une House ✨ sucrée-salée\, 🪩 sauce Groovy\, agrémentée de quelques épices 🌶️ selon l’inspiration du moment. \nLINE-UP DANSE & AMBIANÇAGE\n🕺 P-DOC – INITIATION HOUSE DANCE\n💃 PAULINE – INITIATION WAACKING \nFULL HOUSE\, FULL FUN !  \n—————————- \nℹ️ INFOS PRATIQUES\n💃 Soirée Full house Jam\n📍 Minimistan (Rue des Minimes\, 38000 Grenoble)\n🕟 Le samedi 2 mai dès 18h\n🎟️ Gratuit / Entrée libre
URL:https://minimistan.org/evenement/full-house-jam-avec-la-compagnie-komok/
LOCATION:Le Minimistan\, cour Marcel Reymond\, Grenoble\, 38000
CATEGORIES:Evénements du Minimistan
ATTACH;FMTTYPE=image/png:https://minimistan.org/wp-content/uploads/2026/04/2026-mai-banniere-site-1-scaled-e1775313630731.png
END:VEVENT
BEGIN:VEVENT
DTSTART;TZID=Europe/Paris:20260507T180000
DTEND;TZID=Europe/Paris:20260507T233000
DTSTAMP:20260422T101302
CREATED:20260410T120622Z
LAST-MODIFIED:20260421T095142Z
UID:10000643-1778176800-1778196600@minimistan.org
SUMMARY:Mini Klub by RTL3 - Open Air Sessions
DESCRIPTION:Une fois par mois\, RTL3 prend ses platines et vient s’installer dans la cour pour une soirée Mini Klub. \nRTL3 (la Radio Toujours Libre)\, c’est une web radio dont le studio est installé au premier étage du Minimistan. Et une fois par mois ça déborde dehors : ça joue en open air\, en fin de journée\, quand la lumière baisse et que la cour commence à vivre autrement. Un moment simple\, sans pression\, où on peut passer\, rester\, écouter\, danser\, traîner. \nMusicalement\, RTL3\, ne suit pas une ligne droite : ça passe par la funk\, ma disco\, le techno\, le UK garage… ça circule librement\, selon les envies et l’énergie du moment. \n📅 Jeudi 7 mai\n🕐 18h – minuit\n🎟️ Entrée libre et gratuite
URL:https://minimistan.org/evenement/mini-klub-by-rtl3/
LOCATION:Le Minimistan\, cour Marcel Reymond\, Grenoble\, 38000
CATEGORIES:Evénements du Minimistan,Homepage
ATTACH;FMTTYPE=image/png:https://minimistan.org/wp-content/uploads/2026/04/banniere-mini-klub-7-mai-e1776765087526.png
END:VEVENT
BEGIN:VEVENT
DTSTART;TZID=Europe/Paris:20260512T190000
DTEND;TZID=Europe/Paris:20260512T210000
DTSTAMP:20260422T101302
CREATED:20260410T121215Z
LAST-MODIFIED:20260410T122547Z
UID:10000644-1778612400-1778619600@minimistan.org
SUMMARY:Blind test avec Mister BT
DESCRIPTION:Les Blind Tests de Mister BT continuent au Minimistan pour défier votre répertoire musical ! \nN’oubliez pas de réserver votre table à l’avance pour être sûr d’avoir une place 👇\n–> https://bookings.zenchef.com/results?rid=362177\nEt lors de votre réservation sur Zenchef\, précisez bien en commentaire que c’est pour le Blind test ! \nLe jeu se fait en équipe\, alors rassemblez vos ami.e.s et préparez vos oreilles musicales ! \n📆 Mardi 12 mai\n🕟 19h\n📍 Minimistan (Rue des Minimes\, 38000 Grenoble)\n🎟️ Gratuit sur réservation
URL:https://minimistan.org/evenement/blind-test-avec-mister-bt-13/
LOCATION:Le Minimistan\, cour Marcel Reymond\, Grenoble\, 38000
CATEGORIES:Evénements du Minimistan
ATTACH;FMTTYPE=image/png:https://minimistan.org/wp-content/uploads/2026/04/Blind_Test.png
END:VEVENT
BEGIN:VEVENT
DTSTART;TZID=Europe/Paris:20260519T200000
DTEND;TZID=Europe/Paris:20260519T230000
DTSTAMP:20260422T101302
CREATED:20260410T122056Z
LAST-MODIFIED:20260410T122501Z
UID:10000645-1779220800-1779231600@minimistan.org
SUMMARY:Soirée Terça-Feira Forró
DESCRIPTION:Vous vibrez au son des danses latines ? Alors laissez-vous tenter par le forró… 💃✨ \nCette danse de couple venue du Brésil se savoure sur des rythmes tantôt doux et langoureux\, tantôt intensément festifs. Originaire du Nordeste\, le forró invite à la connexion\, au partage et aux émotions qui font battre le cœur 🇧🇷 \nForró Alegre\, jeune collectif grenoblois passionné\, fait rayonner le forró et la culture brésilienne dans la région avec énergie et bonne humeur. \nAu programme : pratiques bi-mensuelles\, stages animés par des professeurs aux horizons variés\, et des soirées uniques où la piste s’embrase 🔥 \nVenez danser librement\, ressentir\, vous amuser… chacun à son rythme\, porté par la musique et le plaisir du moment ❤️ \n💃 Forró\, danse brésilienne avec l’association Forró Alegre\n📆 Mardi 19 mai\n📍 Minimistan (Rue des Minimes\, 38000 Grenoble)\n🕟 20h – 23h\n🎟️ Gratuit / Entrée libre
URL:https://minimistan.org/evenement/soiree-terca-feira-forro-9/
LOCATION:Le Minimistan\, cour Marcel Reymond\, Grenoble\, 38000
CATEGORIES:Evénements du Minimistan
ATTACH;FMTTYPE=image/png:https://minimistan.org/wp-content/uploads/2026/04/Soiree_forro.png
END:VEVENT
BEGIN:VEVENT
DTSTART;TZID=Europe/Paris:20260526T200000
DTEND;TZID=Europe/Paris:20260526T213000
DTSTAMP:20260422T101302
CREATED:20260410T123105Z
LAST-MODIFIED:20260410T123105Z
UID:10000646-1779825600-1779831000@minimistan.org
SUMMARY:Les Swings du Minimistan
DESCRIPTION:Avec ses soirées swing\, le Bar du Minimistan devient un haut lieu grenoblois des rencontres de danses de la prohibition ! \nQue vous soyez plutôt lindy hop\, balboa\, jazz roots ou blues\, rejoignez la piste pour des sessions endiablées aux allures de bal populaire qui réchaufferont les coeurs et les corps 💃🕺 \nInitiation à 20h15 avec l’association Grenoble Swing \nNotez les dates dans vos agendas et réservez-nous vos meilleurs swing chaque mois !\n—————————-\nℹ️ INFOS PRATIQUES\n💃 Soirée Swing & Lindy Hop\n📍 Minimistan (Rue des Minimes\, 38000 Grenoble)\n🕟 Le mardi 26 mai à 20h\n🎟️ Gratuit / Entrée libre
URL:https://minimistan.org/evenement/les-swings-du-minimistan-18/
LOCATION:Le Minimistan\, cour Marcel Reymond\, Grenoble\, 38000
CATEGORIES:Evénements du Minimistan
ATTACH;FMTTYPE=image/png:https://minimistan.org/wp-content/uploads/2026/04/Swings_Minimistan.png
END:VEVENT
END:VCALENDAR